BEGIN:VCALENDAR
VERSION:2.0
PRODID:-//Sauvage - ECPv5.3.1//NONSGML v1.0//EN
CALSCALE:GREGORIAN
METHOD:PUBLISH
X-WR-CALNAME:Sauvage
X-ORIGINAL-URL:http://www.sauvage-bar.fr
X-WR-CALDESC:évènements pour Sauvage
BEGIN:VTIMEZONE
TZID:Europe/Paris
BEGIN:DAYLIGHT
TZOFFSETFROM:+0100
TZOFFSETTO:+0200
TZNAME:CEST
DTSTART:20260329T010000
END:DAYLIGHT
BEGIN:STANDARD
TZOFFSETFROM:+0200
TZOFFSETTO:+0100
TZNAME:CET
DTSTART:20261025T010000
END:STANDARD
END:VTIMEZONE
BEGIN:VEVENT
DTSTART;TZID=Europe/Paris:20260105T180000
DTEND;TZID=Europe/Paris:20260131T180000
DTSTAMP:20260422T200216
CREATED:20260108T151553Z
LAST-MODIFIED:20260108T151645Z
UID:3650-1767636000-1769882400@www.sauvage-bar.fr
SUMMARY:DRY JANUARY
DESCRIPTION:C’est le temps des bonnes résolutions après des fêtes bien chargées\, tu as le choix entre une sélection de Mocktails spécialement créé pour l’occasion en plus de notre carte actuel\, d’homéopathie par les plantes avec notre sélection de Chartreuse et Génépi tout comme un bon et intemporel « MISSISSIPPI GROENLAND » ! \n 
URL:http://www.sauvage-bar.fr/event/dry-january/
LOCATION:Sauvage\, 3 rue Montesquieu\, Lyon\, 69007\, France
END:VEVENT
END:VCALENDAR